BEGIN:VCALENDAR
VERSION:2.0
PRODID:-//Kulvio Event Calendar//kulvio.de//
CALSCALE:GREGORIAN
METHOD:PUBLISH
BEGIN:VEVENT
SUMMARY:Klassikfrühling: sixty1strings
DTSTART:20260426T150000Z
DTEND:20260426T160000Z
DTSTAMP:20260419T233431Z
UID:kulvio-event-2454@kulvio.de
CATEGORIES:Konzert
CREATED:20260418T194755Z
DESCRIPTION:Das Ensemble sixty1strings präsentiert ein Konzert im Rahmen 
 des Klassikfrühlings in der Evangelischen Kirche Friedrichsdorf. In dem h
 istorischen Kirchenraum aus dem 19. Jahrhundert erklingen klassische Werke
  in besonderer Akustik. Die Kirche in der Hugenottenstraße geht auf eine 
 Gründung der Hugenotten zurück und bietet einen stimmungsvollen Rahmen f
 ür das Nachmittagskonzert.
GEO:50.256853;8.641572
LAST-MODIFIED:20260418T194848Z
LOCATION:Evangelische Kirche Friedrichsdorf\, Hugenottenstraße 92\, 61381
 \, Friedrichsdorf
STATUS:CONFIRMED
URL:https://kulvio.de/event/2454
END:VEVENT
END:VCALENDAR
