BEGIN:VCALENDAR
VERSION:2.0
PRODID:-//Kulvio Event Calendar//kulvio.de//
CALSCALE:GREGORIAN
METHOD:PUBLISH
BEGIN:VEVENT
SUMMARY:KellerSpezial: Olaf Velte
DTSTART:20260429T180000Z
DTEND:20260429T190000Z
DTSTAMP:20260419T233243Z
UID:kulvio-event-2455@kulvio.de
CATEGORIES:Kabarett
CREATED:20260418T194755Z
DESCRIPTION:Olaf Velte tritt im Rahmen der Reihe KellerSpezial in Garniers
  Keller in Friedrichsdorf auf. Der Abend bietet Kleinkunst in der gemütli
 chen Atmosphäre des historischen Gewölbekellers\, der Platz für rund se
 chzig Gäste bietet. Die Veranstaltung beginnt um 20 Uhr\, Einlass ist ein
 e Stunde vor Beginn.
GEO:50.258325;8.644146
LAST-MODIFIED:20260418T194848Z
LOCATION:Garniers Keller\, Institut Garnier 1\, 61381\, Friedrichsdorf
STATUS:CONFIRMED
URL:https://kulvio.de/event/2455
END:VEVENT
END:VCALENDAR
