BEGIN:VCALENDAR
VERSION:2.0
PRODID:-//Kulvio Event Calendar//kulvio.de//
CALSCALE:GREGORIAN
METHOD:PUBLISH
BEGIN:VEVENT
SUMMARY:Tim Frühling in Garniers Keller
DTSTART:20260507T180000Z
DTEND:20260507T190000Z
DTSTAMP:20260419T235652Z
UID:kulvio-event-2456@kulvio.de
CATEGORIES:Comedy
CREATED:20260418T194755Z
DESCRIPTION:Tim Frühling gastiert in Garniers Keller in Friedrichsdorf. D
 er Abend bietet Comedy und Kleinkunst im intimen Ambiente des historischen
  Gewölbekellers im ehemaligen Institut Garnier. Die Veranstaltung beginnt
  um 20 Uhr. Karten kosten 16 Euro und sind im Vorverkauf erhältlich.
GEO:50.258325;8.644146
LAST-MODIFIED:20260418T194848Z
LOCATION:Garniers Keller\, Institut Garnier 1\, 61381\, Friedrichsdorf
STATUS:CONFIRMED
URL:https://kulvio.de/event/2456
END:VEVENT
END:VCALENDAR
