BEGIN:VCALENDAR
VERSION:2.0
PRODID:-//Kulvio Event Calendar//kulvio.de//
CALSCALE:GREGORIAN
METHOD:PUBLISH
BEGIN:VEVENT
SUMMARY:Mit Mord zum Weltruhm: Agatha Christie zum 50. Todestag
DTSTART:20260423T170000Z
DTEND:20260423T180000Z
DTSTAMP:20260419T233423Z
UID:kulvio-event-2457@kulvio.de
CATEGORIES:Lesung
CREATED:20260418T195105Z
DESCRIPTION:In der Stadtbibliothek Königstein findet anlässlich des 50. 
 Todestags von Agatha Christie eine biografische Lesung statt. Der Abend be
 leuchtet das Leben der berühmten Krimiautorin zwischen Gift und Geheimnis
 sen und bietet Einblicke in die Person hinter den weltbekannten Detektivge
 schichten. Der Eintritt beträgt 10 Euro. Die Veranstaltung beginnt um 19 
 Uhr in der Stadtbibliothek in der Wiesbadener Straße.
GEO:50.181383;8.467939
LAST-MODIFIED:20260418T195156Z
LOCATION:Stadtbibliothek Königstein\, Wiesbadener Straße 6\, 61462\, Kö
 nigstein im Taunus
STATUS:CONFIRMED
URL:https://kulvio.de/event/2457
END:VEVENT
END:VCALENDAR
