BEGIN:VCALENDAR
VERSION:2.0
PRODID:-//Kulvio Event Calendar//kulvio.de//
CALSCALE:GREGORIAN
METHOD:PUBLISH
BEGIN:VEVENT
SUMMARY:Krach im Chianti - Theater Lempenfieber (Freitag)
DTSTART:20260522T180000Z
DTEND:20260522T190000Z
DTSTAMP:20260419T233816Z
UID:kulvio-event-2458@kulvio.de
CATEGORIES:Theater,Comedy
CREATED:20260418T195105Z
DESCRIPTION:Das Theater Lempenfieber gastiert in Königstein im Taunus mit
  der Komödie Krach im Chianti. Das Stück handelt von den Tücken eines g
 emeinsamen Urlaubs und verspricht einen unterhaltsamen Theaterabend mit hu
 morvoller Handlung. Aufgeführt wird in der Werkstatt der Dachdeckerei Hau
 b in der Wiesbadener Straße\, die als ungewöhnlicher Spielort dient. Die
  Vorstellung beginnt um 20 Uhr.
GEO:50.178154;8.470583
LAST-MODIFIED:20260418T195156Z
LOCATION:Wiesbadener Straße 60\, 61462\, Königstein im Taunus
STATUS:CONFIRMED
URL:https://kulvio.de/event/2458
END:VEVENT
END:VCALENDAR
