BEGIN:VCALENDAR
VERSION:2.0
PRODID:-//Kulvio Event Calendar//kulvio.de//
CALSCALE:GREGORIAN
METHOD:PUBLISH
BEGIN:VEVENT
SUMMARY:Krach im Chianti - Theater Lempenfieber (Samstag)
DTSTART:20260523T180000Z
DTEND:20260523T190000Z
DTSTAMP:20260419T235656Z
UID:kulvio-event-2459@kulvio.de
CATEGORIES:Theater,Comedy
CREATED:20260418T195105Z
DESCRIPTION:Das Theater Lempenfieber zeigt die Komödie Krach im Chianti a
 m zweiten Abend in Königstein im Taunus. Das Stück dreht sich um die kom
 ischen Verwicklungen eines gemeinsamen Urlaubs und sorgt für einen heiter
 en Abend. Gespielt wird erneut in der Werkstatt der Dachdeckerei Haub in d
 er Wiesbadener Straße. Die Vorstellung beginnt um 20 Uhr.
GEO:50.178154;8.470583
LAST-MODIFIED:20260418T195156Z
LOCATION:Wiesbadener Straße 60\, 61462\, Königstein im Taunus
STATUS:CONFIRMED
URL:https://kulvio.de/event/2459
END:VEVENT
END:VCALENDAR
