BEGIN:VCALENDAR
VERSION:2.0
PRODID:-//Kulvio Event Calendar//kulvio.de//
CALSCALE:GREGORIAN
METHOD:PUBLISH
BEGIN:VEVENT
SUMMARY:Turning Pages - S. Rosenthal
DTSTART:20260422T171500Z
DTEND:20260422T181500Z
DTSTAMP:20260419T233420Z
UID:kulvio-event-2460@kulvio.de
CATEGORIES:Konzert
CREATED:20260418T195227Z
DESCRIPTION:Der Bratschist S. Rosenthal gestaltet einen Kammermusikabend i
 m Carl Bechstein Saal des Casals Forum in Kronberg. Auf dem Programm stehe
 n Mozarts Klavierquartette in Es-Dur und g-Moll sowie ein Werk der Komponi
 stin Michelle Barzel Ross. Begleitet wird Rosenthal von Hana Chang an der 
 Violine\, Oliver Herbert am Cello sowie Anna Han und Nikola Meeuwsen am Kl
 avier. Im Ticketpreis ist ein Getränk enthalten.
GEO:50.180909;8.514849
LAST-MODIFIED:20260418T195317Z
LOCATION:Casals Forum\, Beethovenplatz 1\, 61476\, Kronberg im Taunus
STATUS:CONFIRMED
URL:https://kulvio.de/event/2460
END:VEVENT
END:VCALENDAR
