BEGIN:VCALENDAR
VERSION:2.0
PRODID:-//Kulvio Event Calendar//kulvio.de//
CALSCALE:GREGORIAN
METHOD:PUBLISH
BEGIN:VEVENT
SUMMARY:Lieber Schubert V - Martin Helmchen
DTSTART:20260423T174500Z
DTEND:20260423T200000Z
DTSTAMP:20260419T233435Z
UID:kulvio-event-2461@kulvio.de
CATEGORIES:Konzert
CREATED:20260418T195227Z
DESCRIPTION:Der Pianist Martin Helmchen spielt drei Sonaten von Franz Schu
 bert im Großen Saal des Casals Forum in Kronberg. Der Abend ist Teil der 
 Konzertreihe Lieber Schubert\, die sich dem Sonatenschaffen des Komponiste
 n widmet. Eine Stunde vor Konzertbeginn findet eine Werkeinführung statt\
 , die den Zuhörern Hintergründe zu den gespielten Stücken vermittelt. D
 ie Veranstaltung dauert bis etwa 22 Uhr.
GEO:50.180909;8.514849
LAST-MODIFIED:20260418T195317Z
LOCATION:Casals Forum\, Beethovenplatz 1\, 61476\, Kronberg im Taunus
STATUS:CONFIRMED
URL:https://kulvio.de/event/2461
END:VEVENT
END:VCALENDAR
