BEGIN:VCALENDAR
VERSION:2.0
PRODID:-//Kulvio Event Calendar//kulvio.de//
CALSCALE:GREGORIAN
METHOD:PUBLISH
BEGIN:VEVENT
SUMMARY:Christian Tetzlaff & Friends I
DTSTART:20260424T174500Z
DTEND:20260424T190000Z
DTSTAMP:20260419T233431Z
UID:kulvio-event-2462@kulvio.de
CATEGORIES:Konzert
CREATED:20260418T195227Z
DESCRIPTION:Der Geiger Christian Tetzlaff eröffnet mit Kolleginnen und Ko
 llegen eine dreiteilige Konzertreihe im Carl Bechstein Saal des Casals For
 um. Im ersten Programm erklingen Werke von Haydn\, Bartók und Dvořák in
  intimer Besetzung. Neben Tetzlaff musizieren Hana Chang\, Charlotte Sprui
 t und Julian Rhee an den Violinen\, Brian Isaacs an der Bratsche\, Simon T
 etzlaff am Cello und Kiveli Dörken am Klavier. Das Konzert wird ohne Paus
 e gespielt.
GEO:50.180909;8.514849
LAST-MODIFIED:20260418T195317Z
LOCATION:Casals Forum\, Beethovenplatz 1\, 61476\, Kronberg im Taunus
STATUS:CONFIRMED
URL:https://kulvio.de/event/2462
END:VEVENT
END:VCALENDAR
