BEGIN:VCALENDAR
VERSION:2.0
PRODID:-//Kulvio Event Calendar//kulvio.de//
CALSCALE:GREGORIAN
METHOD:PUBLISH
BEGIN:VEVENT
SUMMARY:Christian Tetzlaff & Friends II
DTSTART:20260425T171500Z
DTEND:20260425T191500Z
DTSTAMP:20260419T232630Z
UID:kulvio-event-2463@kulvio.de
CATEGORIES:Konzert
CREATED:20260418T195227Z
DESCRIPTION:Im zweiten Konzert der Reihe Christian Tetzlaff & Friends erkl
 ingen im Großen Saal des Casals Forum Werke von Dvořák\, Suk und Schube
 rt. Acht Musikerinnen und Musiker um den Geiger Christian Tetzlaff präsen
 tieren Kammermusik in großer Besetzung. Vor dem Konzert findet eine Werke
 inführung statt\, die Hintergründe zum Programm bietet. Der Abend dauert
  von 19:15 bis etwa 21:15 Uhr.
GEO:50.180909;8.514849
LAST-MODIFIED:20260418T195317Z
LOCATION:Casals Forum\, Beethovenplatz 1\, 61476\, Kronberg im Taunus
STATUS:CONFIRMED
URL:https://kulvio.de/event/2463
END:VEVENT
END:VCALENDAR
