BEGIN:VCALENDAR
VERSION:2.0
PRODID:-//Kulvio Event Calendar//kulvio.de//
CALSCALE:GREGORIAN
METHOD:PUBLISH
BEGIN:VEVENT
SUMMARY:Christian Tetzlaff & Friends III
DTSTART:20260426T150000Z
DTEND:20260426T160000Z
DTSTAMP:20260419T232631Z
UID:kulvio-event-2464@kulvio.de
CATEGORIES:Konzert
CREATED:20260418T195227Z
DESCRIPTION:Das dritte und letzte Konzert der Reihe Christian Tetzlaff & F
 riends findet im Carl Bechstein Saal des Casals Forum statt. Neun Musikeri
 nnen und Musiker spielen ein Programm mit Werken der Klassik und der Gegen
 wart. Das Konzert wird ohne Pause gespielt und beginnt am Nachmittag um 17
  Uhr. Es bildet den Abschluss eines intensiven Kammermusik-Wochenendes in 
 Kronberg.
GEO:50.180909;8.514849
LAST-MODIFIED:20260418T195317Z
LOCATION:Casals Forum\, Beethovenplatz 1\, 61476\, Kronberg im Taunus
STATUS:CONFIRMED
URL:https://kulvio.de/event/2464
END:VEVENT
END:VCALENDAR
