BEGIN:VCALENDAR
VERSION:2.0
PRODID:-//Kulvio Event Calendar//kulvio.de//
CALSCALE:GREGORIAN
METHOD:PUBLISH
BEGIN:VEVENT
SUMMARY:Frühjahrskonzert des Musikvereins Kronberg
DTSTART:20260426T150000Z
DTEND:20260426T160000Z
DTSTAMP:20260419T232630Z
UID:kulvio-event-2465@kulvio.de
CATEGORIES:Konzert
CREATED:20260418T195227Z
DESCRIPTION:Der Musikverein Kronberg lädt zum traditionellen Frühjahrsko
 nzert in die Stadthalle Kronberg ein. Das Blasorchester präsentiert ein a
 bwechslungsreiches Programm mit Stücken verschiedener Stilrichtungen. Die
  Veranstaltung beginnt um 17 Uhr und bietet einen Nachmittag mit Live-Musi
 k in festlicher Atmosphäre. Der Musikverein Kronberg besteht seit vielen 
 Jahrzehnten und ist fester Bestandteil des kulturellen Lebens der Stadt.
GEO:50.17844;8.511591
LAST-MODIFIED:20260418T195317Z
LOCATION:Stadthalle Kronberg\, Heinrich-Winter-Straße 1\, 61476\, Kronber
 g im Taunus
STATUS:CONFIRMED
URL:https://kulvio.de/event/2465
END:VEVENT
END:VCALENDAR
