BEGIN:VCALENDAR
VERSION:2.0
PRODID:-//Kulvio Event Calendar//kulvio.de//
CALSCALE:GREGORIAN
METHOD:PUBLISH
BEGIN:VEVENT
SUMMARY:Eröffnungsgala - 18. Arthur Rubinstein Klavierwettbewerb
DTSTART:20260427T170000Z
DTEND:20260427T193000Z
DTSTAMP:20260419T233436Z
UID:kulvio-event-2466@kulvio.de
CATEGORIES:Konzert
CREATED:20260418T195227Z
DESCRIPTION:Mit einer festlichen Gala im Großen Saal des Casals Forum wir
 d der 18. Internationale Arthur Rubinstein Klavierwettbewerb eröffnet. Di
 e Finalisten Kevin Chen und Yukine Kuroki spielen Werke von Chopin\, Mozar
 t\, Debussy\, Mendelssohn und Rachmaninow. Der international renommierte W
 ettbewerb findet erstmals im Casals Forum in Kronberg statt und bringt jun
 ge Spitzenpianisten aus aller Welt in den Taunus. Die Gala dauert von 19 b
 is etwa 21:30 Uhr.
GEO:50.180909;8.514849
LAST-MODIFIED:20260418T195317Z
LOCATION:Casals Forum\, Beethovenplatz 1\, 61476\, Kronberg im Taunus
STATUS:CONFIRMED
URL:https://kulvio.de/event/2466
END:VEVENT
END:VCALENDAR
