BEGIN:VCALENDAR
VERSION:2.0
PRODID:-//Kulvio Event Calendar//kulvio.de//
CALSCALE:GREGORIAN
METHOD:PUBLISH
BEGIN:VEVENT
SUMMARY:Arthur Rubinstein Klavierwettbewerb - Vorrunde Tag 1
DTSTART:20260428T083000Z
DTEND:20260428T093000Z
DTSTAMP:20260419T232049Z
UID:kulvio-event-2467@kulvio.de
CATEGORIES:Konzert
CREATED:20260418T195227Z
DESCRIPTION:Am ersten Tag der Vorrunde des 18. Internationalen Arthur Rubi
 nstein Klavierwettbewerbs treten die Teilnehmerinnen und Teilnehmer im Car
 l Bechstein Saal des Casals Forum an. Jeder Kandidat spielt ein Solorecita
 l von 35 bis 40 Minuten Länge. Die Vorspiele sind öffentlich zugänglich
  und bieten die Gelegenheit\, junge Klaviertalente aus aller Welt zu höre
 n.
GEO:50.180909;8.514849
LAST-MODIFIED:20260418T195317Z
LOCATION:Casals Forum\, Beethovenplatz 1\, 61476\, Kronberg im Taunus
STATUS:CONFIRMED
URL:https://kulvio.de/event/2467
END:VEVENT
END:VCALENDAR
