BEGIN:VCALENDAR
VERSION:2.0
PRODID:-//Kulvio Event Calendar//kulvio.de//
CALSCALE:GREGORIAN
METHOD:PUBLISH
BEGIN:VEVENT
SUMMARY:Arthur Rubinstein Klavierwettbewerb - Vorrunde Tag 2
DTSTART:20260429T083000Z
DTEND:20260429T093000Z
DTSTAMP:20260419T233244Z
UID:kulvio-event-2468@kulvio.de
CATEGORIES:Konzert
CREATED:20260418T195228Z
DESCRIPTION:Der zweite Tag der Vorrunde des 18. Internationalen Arthur Rub
 instein Klavierwettbewerbs bringt weitere Solorecitals im Carl Bechstein S
 aal des Casals Forum. Die Kandidatinnen und Kandidaten präsentieren sich 
 mit Programmen von 35 bis 40 Minuten Dauer dem Publikum und der Jury. Die 
 Vorspiele beginnen am Vormittag und ziehen sich bis in den Abend.
GEO:50.180909;8.514849
LAST-MODIFIED:20260418T195317Z
LOCATION:Casals Forum\, Beethovenplatz 1\, 61476\, Kronberg im Taunus
STATUS:CONFIRMED
URL:https://kulvio.de/event/2468
END:VEVENT
END:VCALENDAR
