BEGIN:VCALENDAR
VERSION:2.0
PRODID:-//Kulvio Event Calendar//kulvio.de//
CALSCALE:GREGORIAN
METHOD:PUBLISH
BEGIN:VEVENT
SUMMARY:From night to light - Dmytro Udovychenko
DTSTART:20260429T171500Z
DTEND:20260429T181500Z
DTSTAMP:20260419T232825Z
UID:kulvio-event-2469@kulvio.de
CATEGORIES:Konzert
CREATED:20260418T195228Z
DESCRIPTION:Der Bratschist Dmytro Udovychenko und sein Kammermusik-Ensembl
 e spielen im Großen Saal des Casals Forum in Kronberg. Das Programm führ
 t von Stankovychs Sonate über Mendelssohns Oktett bis zu Beethoven und sp
 annt damit einen Bogen von dunklen zu hellen Klangfarben. Der Konzertabend
  trägt den Titel From night to light und beginnt um 19:15 Uhr. Im Ticketp
 reis ist ein Getränk inbegriffen.
GEO:50.180909;8.514849
LAST-MODIFIED:20260418T195317Z
LOCATION:Casals Forum\, Beethovenplatz 1\, 61476\, Kronberg im Taunus
STATUS:CONFIRMED
URL:https://kulvio.de/event/2469
END:VEVENT
END:VCALENDAR
