BEGIN:VCALENDAR
VERSION:2.0
PRODID:-//Kulvio Event Calendar//kulvio.de//
CALSCALE:GREGORIAN
METHOD:PUBLISH
BEGIN:VEVENT
SUMMARY:Arthur Rubinstein Klavierwettbewerb - Vorrunde Tag 3
DTSTART:20260430T083000Z
DTEND:20260430T093000Z
DTSTAMP:20260419T233235Z
UID:kulvio-event-2470@kulvio.de
CATEGORIES:Konzert
CREATED:20260418T195228Z
DESCRIPTION:Am dritten Tag der Vorrunde des 18. Internationalen Arthur Rub
 instein Klavierwettbewerbs setzen sich die Solorecitals im Carl Bechstein 
 Saal des Casals Forum fort. Die verbliebenen Kandidatinnen und Kandidaten 
 präsentieren ihre Programme vor Publikum und Jury. Wer sich durchsetzt\, 
 rückt in die Halbfinalrunde vor.
GEO:50.180909;8.514849
LAST-MODIFIED:20260418T195317Z
LOCATION:Casals Forum\, Beethovenplatz 1\, 61476\, Kronberg im Taunus
STATUS:CONFIRMED
URL:https://kulvio.de/event/2470
END:VEVENT
END:VCALENDAR
