BEGIN:VCALENDAR
VERSION:2.0
PRODID:-//Kulvio Event Calendar//kulvio.de//
CALSCALE:GREGORIAN
METHOD:PUBLISH
BEGIN:VEVENT
SUMMARY:Arthur Rubinstein Klavierwettbewerb - Vorrunde Tag 4
DTSTART:20260501T083000Z
DTEND:20260501T093000Z
DTSTAMP:20260419T232529Z
UID:kulvio-event-2471@kulvio.de
CATEGORIES:Konzert
CREATED:20260418T195228Z
DESCRIPTION:Der vierte und letzte Tag der Vorrunde des 18. Internationalen
  Arthur Rubinstein Klavierwettbewerbs findet im Carl Bechstein Saal des Ca
 sals Forum statt. Nach diesem Tag steht fest\, welche Pianistinnen und Pia
 nisten in die nächste Runde einziehen. Die Vorspiele sind öffentlich und
  beginnen am Vormittag.
GEO:50.180909;8.514849
LAST-MODIFIED:20260418T195317Z
LOCATION:Casals Forum\, Beethovenplatz 1\, 61476\, Kronberg im Taunus
STATUS:CONFIRMED
URL:https://kulvio.de/event/2471
END:VEVENT
END:VCALENDAR
