BEGIN:VCALENDAR
VERSION:2.0
PRODID:-//Kulvio Event Calendar//kulvio.de//
CALSCALE:GREGORIAN
METHOD:PUBLISH
BEGIN:VEVENT
SUMMARY:Sinfonisches Akkordeon-Orchester Hessen im Casals Forum
DTSTART:20260502T171500Z
DTEND:20260502T181500Z
DTSTAMP:20260419T232630Z
UID:kulvio-event-2472@kulvio.de
CATEGORIES:Konzert
CREATED:20260418T195228Z
DESCRIPTION:Das Sinfonische Akkordeon-Orchester Hessen gibt unter der Leit
 ung von Thomas Bauer ein Konzert im Großen Saal des Casals Forum in Kronb
 erg. Auf dem Programm stehen Werke von Sibelius\, Schostakowitsch\, Humper
 dinck und Williams\, die in der Besetzung für Akkordeon-Orchester eine be
 sondere Klangfarbe erhalten. Das Konzert beginnt um 19:15 Uhr und bietet k
 lassische Orchestermusik in ungewohnter Instrumentierung.
GEO:50.180909;8.514849
LAST-MODIFIED:20260418T195317Z
LOCATION:Casals Forum\, Beethovenplatz 1\, 61476\, Kronberg im Taunus
STATUS:CONFIRMED
URL:https://kulvio.de/event/2472
END:VEVENT
END:VCALENDAR
