BEGIN:VCALENDAR
VERSION:2.0
PRODID:-//Kulvio Event Calendar//kulvio.de//
CALSCALE:GREGORIAN
METHOD:PUBLISH
BEGIN:VEVENT
SUMMARY:Arthur Rubinstein Klavierwettbewerb - Halbfinale Tag 1
DTSTART:20260502T083000Z
DTEND:20260502T093000Z
DTSTAMP:20260419T232549Z
UID:kulvio-event-2473@kulvio.de
CATEGORIES:Konzert
CREATED:20260418T195228Z
DESCRIPTION:Im Halbfinale des 18. Internationalen Arthur Rubinstein Klavie
 rwettbewerbs spielen die verbliebenen 16 Kandidatinnen und Kandidaten im G
 roßen Saal des Casals Forum. Jedes Recital dauert 50 bis 60 Minuten und s
 tellt höchste Ansprüche an Technik und Interpretation. Die Vorspiele sin
 d öffentlich zugänglich und beginnen am Vormittag.
GEO:50.180909;8.514849
LAST-MODIFIED:20260418T195317Z
LOCATION:Casals Forum\, Beethovenplatz 1\, 61476\, Kronberg im Taunus
STATUS:CONFIRMED
URL:https://kulvio.de/event/2473
END:VEVENT
END:VCALENDAR
