BEGIN:VCALENDAR
VERSION:2.0
PRODID:-//Kulvio Event Calendar//kulvio.de//
CALSCALE:GREGORIAN
METHOD:PUBLISH
BEGIN:VEVENT
SUMMARY:Arthur Rubinstein Klavierwettbewerb - Halbfinale Tag 2
DTSTART:20260503T083000Z
DTEND:20260503T093000Z
DTSTAMP:20260419T233119Z
UID:kulvio-event-2474@kulvio.de
CATEGORIES:Konzert
CREATED:20260418T195228Z
DESCRIPTION:Am zweiten Halbfinaltag des 18. Internationalen Arthur Rubinst
 ein Klavierwettbewerbs setzen die Kandidatinnen und Kandidaten ihre Recita
 ls im Großen Saal des Casals Forum fort. Die längeren Programme von 50 b
 is 60 Minuten fordern von den Pianisten ein breites Repertoire und hohe Ko
 nzentration. Das Publikum kann die Vorspiele ab 10:30 Uhr verfolgen.
GEO:50.180909;8.514849
LAST-MODIFIED:20260418T195317Z
LOCATION:Casals Forum\, Beethovenplatz 1\, 61476\, Kronberg im Taunus
STATUS:CONFIRMED
URL:https://kulvio.de/event/2474
END:VEVENT
END:VCALENDAR
