BEGIN:VCALENDAR
VERSION:2.0
PRODID:-//Kulvio Event Calendar//kulvio.de//
CALSCALE:GREGORIAN
METHOD:PUBLISH
BEGIN:VEVENT
SUMMARY:Arthur Rubinstein Klavierwettbewerb - Halbfinale Tag 3
DTSTART:20260504T083000Z
DTEND:20260504T093000Z
DTSTAMP:20260419T235652Z
UID:kulvio-event-2475@kulvio.de
CATEGORIES:Konzert
CREATED:20260418T195228Z
DESCRIPTION:Der dritte und letzte Halbfinaltag des 18. Internationalen Art
 hur Rubinstein Klavierwettbewerbs entscheidet\, wer ins Finale einzieht. I
 m Großen Saal des Casals Forum spielen die letzten Kandidatinnen und Kand
 idaten ihre Recitals vor Publikum und Jury. Die Vorspiele beginnen am Vorm
 ittag und sind öffentlich zugänglich.
GEO:50.180909;8.514849
LAST-MODIFIED:20260418T195317Z
LOCATION:Casals Forum\, Beethovenplatz 1\, 61476\, Kronberg im Taunus
STATUS:CONFIRMED
URL:https://kulvio.de/event/2475
END:VEVENT
END:VCALENDAR
