BEGIN:VCALENDAR
VERSION:2.0
PRODID:-//Kulvio Event Calendar//kulvio.de//
CALSCALE:GREGORIAN
METHOD:PUBLISH
BEGIN:VEVENT
SUMMARY:7. Kronberger Genuss-Messe
DTSTART:20260510T090000Z
DTEND:20260510T160000Z
DTSTAMP:20260419T232550Z
UID:kulvio-event-2476@kulvio.de
CATEGORIES:Tasting,Messe
CREATED:20260418T195228Z
DESCRIPTION:In der Stadthalle Kronberg findet die siebte Kronberger Genuss
 -Messe statt. Zahlreiche Aussteller präsentieren Delikatessen\, Weine\, B
 iere und Spirituosen zum Probieren und Kaufen. Die Messe richtet sich an L
 iebhaber guter Küche und hochwertiger Getränke aus der Region und darüb
 er hinaus. Die Türen sind von 11 bis 18 Uhr geöffnet.
GEO:50.17844;8.511591
LAST-MODIFIED:20260418T195317Z
LOCATION:Stadthalle Kronberg\, Heinrich-Winter-Straße 1\, 61476\, Kronber
 g im Taunus
STATUS:CONFIRMED
URL:https://kulvio.de/event/2476
END:VEVENT
END:VCALENDAR
