BEGIN:VCALENDAR
VERSION:2.0
PRODID:-//Kulvio Event Calendar//kulvio.de//
CALSCALE:GREGORIAN
METHOD:PUBLISH
BEGIN:VEVENT
SUMMARY:Vatertagsfrühschoppen des Musikvereins Kronberg
DTSTART:20260514T083000Z
DTEND:20260514T093000Z
DTSTAMP:20260419T232821Z
UID:kulvio-event-2477@kulvio.de
CATEGORIES:Konzert,Tradition
CREATED:20260418T195228Z
DESCRIPTION:Der Musikverein Kronberg lädt am Vatertag zum traditionellen 
 Frühschoppen in die Zehntscheune ein. Bei Getränken und geselligem Beisa
 mmensein klingt der Feiertag musikalisch an. Die Veranstaltung beginnt um 
 10:30 Uhr in der historischen Zehntscheune in der Kronberger Altstadt. Der
  Frühschoppen gehört zu den festen Terminen im Jahreskalender des Musikv
 ereins.
GEO:50.180447;8.50969
LAST-MODIFIED:20260418T195317Z
LOCATION:Zehntscheune Kronberg\, Tanzhausstraße 15a\, 61476\, Kronberg im
  Taunus
STATUS:CONFIRMED
URL:https://kulvio.de/event/2477
END:VEVENT
END:VCALENDAR
