BEGIN:VCALENDAR
VERSION:2.0
PRODID:-//Kulvio Event Calendar//kulvio.de//
CALSCALE:GREGORIAN
METHOD:PUBLISH
BEGIN:VEVENT
SUMMARY:Daphne de Luxe - Artgerecht
DTSTART:20260424T180000Z
DTEND:20260424T190000Z
DTSTAMP:20260421T084855Z
UID:kulvio-event-2478@kulvio.de
CATEGORIES:Comedy,Kabarett
CREATED:20260418T235317Z
DESCRIPTION:Die Comedienne Daphne de Luxe kommt mit ihrem Programm Artgere
 cht in die Stadthalle Oberursel. In der Show zieht sie amüsante Parallele
 n zwischen menschlichem Verhalten und der Tierwelt und liefert überrasche
 nde Erkenntnisse mit viel Witz und Charme. Das Programm verbindet Stand-Up
 -Comedy mit musikalischen Einlagen und Kabarett. Die Vorstellung beginnt u
 m 20 Uhr\, Karten sind ab 28\,50 im Vorverkauf erhältlich.
GEO:50.201211;8.579833
LAST-MODIFIED:20260418T235434Z
LOCATION:Stadthalle Oberursel\, Rathausplatz 2\, 61440\, Oberursel (Taunus
 )
STATUS:CONFIRMED
URL:https://kulvio.de/event/2478
END:VEVENT
END:VCALENDAR
