BEGIN:VCALENDAR
VERSION:2.0
PRODID:-//Kulvio Event Calendar//kulvio.de//
CALSCALE:GREGORIAN
METHOD:PUBLISH
BEGIN:VEVENT
SUMMARY:Farbenrausch - Deckenkonzert für Familien
DTSTART:20260503T130000Z
DTEND:20260503T140000Z
DTSTAMP:20260421T042429Z
UID:kulvio-event-2479@kulvio.de
CATEGORIES:Konzert,Kindertheater
CREATED:20260418T235317Z
DESCRIPTION:In der Stadthalle Oberursel findet ein Familienkonzert statt\,
  bei dem Kinder ab dem Säuglingsalter und ihre Familien auf mitgebrachten
  Decken klassischer Musik lauschen. Barbara Flechsenhar an der Violine\, J
 ulia Ruckelshausen am Cello und Xing Liao am Klavier spielen Werke von Bac
 h\, Mozart\, Debussy und Piazzolla. Erzählerin Natalie Franken führt dur
 ch das rund 40-minütige Programm\, das jeder Farbe ein eigenes Musikstüc
 k zuordnet. Kinder unter zehn Jahren haben freien Eintritt.
GEO:50.201211;8.579833
LAST-MODIFIED:20260418T235434Z
LOCATION:Stadthalle Oberursel\, Rathausplatz 2\, 61440\, Oberursel (Taunus
 )
STATUS:CONFIRMED
URL:https://kulvio.de/event/2479
END:VEVENT
END:VCALENDAR
