BEGIN:VCALENDAR
VERSION:2.0
PRODID:-//Kulvio Event Calendar//kulvio.de//
CALSCALE:GREGORIAN
METHOD:PUBLISH
BEGIN:VEVENT
SUMMARY:Orscheler Flohmarkt
DTSTART:20260516T050000Z
DTEND:20260516T110000Z
DTSTAMP:20260421T035135Z
UID:kulvio-event-2480@kulvio.de
CATEGORIES:Flohmarkt
CREATED:20260418T235317Z
DESCRIPTION:Der Orscheler Flohmarkt zieht sich durch die Oberurseler Innen
 stadt entlang mehrerer Straßen vom Bahnhofsvorplatz bis zur Frankfurter L
 andstraße. Über 200 Stände bieten Trödel\, Antiquitäten und Gebraucht
 waren an. Der Markt findet jeden dritten Samstag im Monat statt und öffne
 t bereits um 7 Uhr morgens. Der Eintritt für Besucher ist frei.
GEO:50.190183;8.597346
LAST-MODIFIED:20260418T235434Z
LOCATION:Frankfurter Landstraße\, 61440\, Oberursel (Taunus)
STATUS:CONFIRMED
URL:https://kulvio.de/event/2480
END:VEVENT
END:VCALENDAR
