BEGIN:VCALENDAR
VERSION:2.0
PRODID:-//Kulvio Event Calendar//kulvio.de//
CALSCALE:GREGORIAN
METHOD:PUBLISH
BEGIN:VEVENT
SUMMARY:45. Oberurseler Brunnenfest (Freitag)
DTSTART:20260529T160000Z
DTEND:20260529T210000Z
DTSTAMP:20260421T043143Z
UID:kulvio-event-2481@kulvio.de
CATEGORIES:Stadtfest,Tradition
CREATED:20260418T235317Z
DESCRIPTION:Das 45. Oberurseler Brunnenfest eröffnet am Freitagabend in d
 er Altstadt rund um den Marktplatz. Das traditionelle Stadtfest erstreckt 
 sich über vier Tage und verwandelt die Gassen\, Höfe und Plätze der Alt
 stadt in ein großes Festgelände. Vereine und Gastronomen betreiben Stän
 de mit Essen und Getränken\, auf der Bleiche gibt es Fahrgeschäfte und J
 ahrmarktattraktionen. Das Brunnenfest gehört zu den größten Festen im H
 ochtaunuskreis.
GEO:50.202574;8.576861
LAST-MODIFIED:20260418T235434Z
LOCATION:Marktplatz\, 61440\, Oberursel (Taunus)
STATUS:CONFIRMED
URL:https://kulvio.de/event/2481
END:VEVENT
END:VCALENDAR
