BEGIN:VCALENDAR
VERSION:2.0
PRODID:-//Kulvio Event Calendar//kulvio.de//
CALSCALE:GREGORIAN
METHOD:PUBLISH
BEGIN:VEVENT
SUMMARY:45. Oberurseler Brunnenfest (Samstag)
DTSTART:20260530T090000Z
DTEND:20260530T210000Z
DTSTAMP:20260421T042434Z
UID:kulvio-event-2482@kulvio.de
CATEGORIES:Stadtfest,Tradition
CREATED:20260418T235317Z
DESCRIPTION:Am Samstag geht das 45. Oberurseler Brunnenfest in den zweiten
  Tag. Die Altstadt rund um den Marktplatz füllt sich erneut mit Besuchern
 \, die durch die Gassen und Höfe schlendern und an den zahlreichen Ständ
 en der Vereine und Gastronomen verweilen. Auf der Bleiche drehen sich die 
 Fahrgeschäfte und der Festplatzrummel sorgt für Unterhaltung bei Groß u
 nd Klein. Das Fest läuft den ganzen Tag bis spät in den Abend.
GEO:50.202574;8.576861
LAST-MODIFIED:20260418T235434Z
LOCATION:Marktplatz\, 61440\, Oberursel (Taunus)
STATUS:CONFIRMED
URL:https://kulvio.de/event/2482
END:VEVENT
END:VCALENDAR
