BEGIN:VCALENDAR
VERSION:2.0
PRODID:-//Kulvio Event Calendar//kulvio.de//
CALSCALE:GREGORIAN
METHOD:PUBLISH
BEGIN:VEVENT
SUMMARY:45. Oberurseler Brunnenfest (Sonntag)
DTSTART:20260531T090000Z
DTEND:20260531T210000Z
DTSTAMP:20260421T042121Z
UID:kulvio-event-2483@kulvio.de
CATEGORIES:Stadtfest,Tradition
CREATED:20260418T235317Z
DESCRIPTION:Am Sonntag erreicht das 45. Oberurseler Brunnenfest seinen dri
 tten Festtag. Familien und Besucher strömen in die Altstadt\, um bei Esse
 n und Trinken durch die geschmückten Höfe und Gassen zu bummeln. Die Fah
 rgeschäfte und der Festplatzrummel auf der Bleiche bieten Unterhaltung f
 ür alle Altersgruppen. Das Brunnenfest ist seit über vier Jahrzehnten ei
 ne feste Tradition in Oberursel.
GEO:50.202574;8.576861
LAST-MODIFIED:20260418T235434Z
LOCATION:Marktplatz\, 61440\, Oberursel (Taunus)
STATUS:CONFIRMED
URL:https://kulvio.de/event/2483
END:VEVENT
END:VCALENDAR
