BEGIN:VCALENDAR
VERSION:2.0
PRODID:-//Kulvio Event Calendar//kulvio.de//
CALSCALE:GREGORIAN
METHOD:PUBLISH
BEGIN:VEVENT
SUMMARY:Die Mirage Show - 10 Jahre Travestie in Neu-Anspach
DTSTART:20260509T180000Z
DTEND:20260509T190000Z
DTSTAMP:20260421T042502Z
UID:kulvio-event-2484@kulvio.de
CATEGORIES:Show,Comedy,LGBTQIA+
CREATED:20260419T150756Z
DESCRIPTION:Die Mirage Show gastiert zum zehnjährigen Jubiläum im Bürge
 rhaus Neu-Anspach. Die Travestie-Revue bringt Dragkunst\, Gesang und Comed
 y auf die Bühne und versammelt bekannte Künstlerinnen und Künstler der 
 deutschen Drag-Szene. Der Abend bietet ein buntes Showprogramm mit Liveges
 ang\, aufwendigen Kostümen und viel Humor. Die Vorstellung beginnt um 20 
 Uhr\, Karten sind ab 37\,50 im Vorverkauf erhältlich.
GEO:50.299932;8.507366
LAST-MODIFIED:20260419T151452Z
LOCATION:Bürgerhaus Neu-Anspach\, Gustav-Heinemann-Straße 3\, 61267\, Ne
 u-Anspach
STATUS:CONFIRMED
URL:https://kulvio.de/event/2484
END:VEVENT
END:VCALENDAR
