BEGIN:VCALENDAR
VERSION:2.0
PRODID:-//Kulvio Event Calendar//kulvio.de//
CALSCALE:GREGORIAN
METHOD:PUBLISH
BEGIN:VEVENT
SUMMARY:Lesung mit Tim Frühling in Glashütten
DTSTART:20260423T170000Z
DTEND:20260423T180000Z
DTSTAMP:20260421T042427Z
UID:kulvio-event-2485@kulvio.de
CATEGORIES:Lesung
CREATED:20260419T150844Z
DESCRIPTION:Der hessische Autor und hr-Moderator Tim Frühling liest im Ev
 angelischen Gemeindezentrum Glashütten aus seinen Werken. Der Abend wird 
 vom Kulturkreis Glashütten organisiert und bietet Literatur in gemütlich
 er Atmosphäre. Karten können vorab per E-Mail reserviert werden\, Restka
 rten gibt es an der Abendkasse. Die Veranstaltung beginnt um 19 Uhr.
GEO:50.214104;8.397822
LAST-MODIFIED:20260419T151452Z
LOCATION:Evangelisches Gemeindezentrum Glashütten\, Schloßborner Weg 16\
 , 61479\, Glashütten (Taunus)
STATUS:CONFIRMED
URL:https://kulvio.de/event/2485
END:VEVENT
END:VCALENDAR
