BEGIN:VCALENDAR
VERSION:2.0
PRODID:-//Kulvio Event Calendar//kulvio.de//
CALSCALE:GREGORIAN
METHOD:PUBLISH
BEGIN:VEVENT
SUMMARY:Partykonzert 20 Jahre Vocalitas
DTSTART:20260530T180000Z
DTEND:20260530T190000Z
DTSTAMP:20260421T042433Z
UID:kulvio-event-2486@kulvio.de
CATEGORIES:Konzert,Party
CREATED:20260419T150844Z
DESCRIPTION:Der Chor Vocalitas feiert sein 20-jähriges Bestehen mit einem
  Partykonzert im Bürgerhaus Glashütten. Chormusik trifft auf Bandklang\,
  und das Publikum ist zum Mitsingen und Mittanzen eingeladen. Der Abend ve
 rspricht bekannte Songs in festlicher Atmosphäre und bildet den Höhepunk
 t des Jubiläumsjahres. Die Veranstaltung findet am Samstagabend statt.
GEO:50.215745;8.401657
LAST-MODIFIED:20260419T151452Z
LOCATION:Bürgerhaus Glashütten\, Schloßborner Weg 2\, 61479\, Glashütt
 en (Taunus)
STATUS:CONFIRMED
URL:https://kulvio.de/event/2486
END:VEVENT
END:VCALENDAR
