BEGIN:VCALENDAR
VERSION:2.0
PRODID:-//Kulvio Event Calendar//kulvio.de//
CALSCALE:GREGORIAN
METHOD:PUBLISH
BEGIN:VEVENT
SUMMARY:Bis dass der Tod - Schwarze Komödie
DTSTART:20260428T180000Z
DTEND:20260428T190000Z
DTSTAMP:20260421T042435Z
UID:kulvio-event-2487@kulvio.de
CATEGORIES:Theater
CREATED:20260419T150914Z
DESCRIPTION:Die Theatertournee Thespiskarren gastiert mit der schwarzen Ko
 mödie von Stefan Vögel im Bürgerhaus Steinbach. Helena\, eine wohlhaben
 de Geschäftsfrau\, entdeckt dass ihr Mann sie nur des Geldes wegen geheir
 atet hat. Beide planen daraufhin\, den jeweils anderen loszuwerden\, doch 
 ein gemeinsamer Bekannter verfolgt dabei seine eigenen Pläne. Das Stück 
 bildet den Abschluss der Theatersaison 2025/2026 in Steinbach.
GEO:50.166855;8.575836
LAST-MODIFIED:20260419T151452Z
LOCATION:Bürgerhaus Steinbach\, Untergasse 36\, 61449\, Steinbach (Taunus
 )
STATUS:CONFIRMED
URL:https://kulvio.de/event/2487
END:VEVENT
END:VCALENDAR
