BEGIN:VCALENDAR
VERSION:2.0
PRODID:-//Kulvio Event Calendar//kulvio.de//
CALSCALE:GREGORIAN
METHOD:PUBLISH
BEGIN:VEVENT
SUMMARY:Bürgerschoppen am 1. Mai in Steinbach
DTSTART:20260501T090000Z
DTEND:20260501T120000Z
DTSTAMP:20260421T042936Z
UID:kulvio-event-2488@kulvio.de
CATEGORIES:Stadtfest,Tradition
CREATED:20260419T150914Z
DESCRIPTION:Die Stadt Steinbach lädt zum traditionellen Bürgerschoppen a
 m 1. Mai auf den Freien Platz ein. Das Blasorchester des TV 1891 Stierstad
 t sorgt für musikalische Begleitung\, während lokale Vereine Speisen und
  Getränke anbieten. Der Bürgerschoppen ist eine beliebte Tradition und f
 indet von 11 bis 14 Uhr statt.
GEO:50.167904;8.571807
LAST-MODIFIED:20260419T151543Z
LOCATION:Freier Platz\, 61449\, Steinbach (Taunus)
STATUS:CONFIRMED
URL:https://kulvio.de/event/2488
END:VEVENT
END:VCALENDAR
