BEGIN:VCALENDAR
VERSION:2.0
PRODID:-//Kulvio Event Calendar//kulvio.de//
CALSCALE:GREGORIAN
METHOD:PUBLISH
BEGIN:VEVENT
SUMMARY:2. Frühlingsfest in Steinbach
DTSTART:20260503T090000Z
DTEND:20260503T140000Z
DTSTAMP:20260421T034739Z
UID:kulvio-event-2489@kulvio.de
CATEGORIES:Stadtfest
CREATED:20260419T150914Z
DESCRIPTION:Am Gerätehaus in der Gartenstraße findet das zweite Frühlin
 gsfest statt. Die Gäste erwarten Erdbeerbowle\, Kaffee und Kuchen sowie e
 in Programm für Kinder. Der Nachmittag bietet Gelegenheit zum gemütliche
 n Beisammensein in entspannter Atmosphäre.
GEO:50.167825;8.57653
LAST-MODIFIED:20260419T151543Z
LOCATION:Gartenstraße 20\, 61449\, Steinbach (Taunus)
STATUS:CONFIRMED
URL:https://kulvio.de/event/2489
END:VEVENT
END:VCALENDAR
