BEGIN:VCALENDAR
VERSION:2.0
PRODID:-//Kulvio Event Calendar//kulvio.de//
CALSCALE:GREGORIAN
METHOD:PUBLISH
BEGIN:VEVENT
SUMMARY:Europatag Steinbach
DTSTART:20260509T090000Z
DTEND:20260509T150000Z
DTSTAMP:20260421T035201Z
UID:kulvio-event-2490@kulvio.de
CATEGORIES:Stadtfest,International
CREATED:20260419T150914Z
DESCRIPTION:Am 9. Mai richtet Steinbach erstmals seit 2015 wieder den Euro
 patag des Hochtaunuskreises aus. Auf dem Freien Platz und in der Kirchgass
 e erwartet die Gäste ein vielfältiges Tagesprogramm mit Beiträgen lokal
 er Vereine\, kulinarischen Angeboten der Partnerstadt Steinbach-Hallenberg
  und der Vorführung des Musiktheaters Labor Europa. Der Europatag ersetzt
  in diesem Jahr das traditionelle Stadtfest und läuft von 11 bis 17 Uhr.
GEO:50.167904;8.571807
LAST-MODIFIED:20260419T151543Z
LOCATION:Freier Platz\, 61449\, Steinbach (Taunus)
STATUS:CONFIRMED
URL:https://kulvio.de/event/2490
END:VEVENT
END:VCALENDAR
