BEGIN:VCALENDAR
VERSION:2.0
PRODID:-//Kulvio Event Calendar//kulvio.de//
CALSCALE:GREGORIAN
METHOD:PUBLISH
BEGIN:VEVENT
SUMMARY:Astor Club Band live am Europatag Steinbach
DTSTART:20260509T170000Z
DTEND:20260509T180000Z
DTSTAMP:20260421T042429Z
UID:kulvio-event-2491@kulvio.de
CATEGORIES:Konzert
CREATED:20260419T150914Z
DESCRIPTION:Im Rahmen des Europatags spielt die Astor Club Band am Abend l
 ive auf dem Freien Platz in Steinbach. Die Band bringt Pop\, Soul und Funk
  auf die Bühne und bildet den musikalischen Höhepunkt des Festtags. Das 
 Konzert beginnt um 19 Uhr und ist kostenfrei.
GEO:50.167904;8.571807
LAST-MODIFIED:20260419T151543Z
LOCATION:Freier Platz\, 61449\, Steinbach (Taunus)
STATUS:CONFIRMED
URL:https://kulvio.de/event/2491
END:VEVENT
END:VCALENDAR
