BEGIN:VCALENDAR
VERSION:2.0
PRODID:-//Kulvio Event Calendar//kulvio.de//
CALSCALE:GREGORIAN
METHOD:PUBLISH
BEGIN:VEVENT
SUMMARY:Usingen Lebendig! - Tag der Städtebauförderung
DTSTART:20260509T090000Z
DTEND:20260509T150000Z
DTSTAMP:20260421T035203Z
UID:kulvio-event-2492@kulvio.de
CATEGORIES:Stadtfest
CREATED:20260419T151026Z
DESCRIPTION:Unter dem Motto Usingen Lebendig feiert die Stadt den Tag der 
 Städtebauförderung mit einem großen Fest in der Innenstadt. An Statione
 n entlang der Bahnhofstraße\, im Schlossgarten und am Fachmarktzentrum gi
 bt es Mitmach-Aktionen für Kinder und Erwachsene. Die Veranstaltung macht
  die Fortschritte der Stadtentwicklung erlebbar und läuft von 11 bis 17 U
 hr.
GEO:50.332372;8.530935
LAST-MODIFIED:20260419T151543Z
LOCATION:Bahnhofstraße\, 61250\, Usingen
STATUS:CONFIRMED
URL:https://kulvio.de/event/2492
END:VEVENT
END:VCALENDAR
