BEGIN:VCALENDAR
VERSION:2.0
PRODID:-//Kulvio Event Calendar//kulvio.de//
CALSCALE:GREGORIAN
METHOD:PUBLISH
BEGIN:VEVENT
SUMMARY:Fischerfest am Hattsteinweiher
DTSTART:20260510T080000Z
DTEND:20260510T090000Z
DTSTAMP:20260421T035540Z
UID:kulvio-event-2493@kulvio.de
CATEGORIES:Tradition
CREATED:20260419T151026Z
DESCRIPTION:Der Fischereiverein Usingen lädt zum traditionellen Fischerfe
 st am Hattsteinweiher ein. Das Fest findet am Weiher nordwestlich von Usin
 gen statt und bietet einen geselligen Tag in der Natur. Beginn ist um 10 U
 hr.
GEO:50.342048;8.511431
LAST-MODIFIED:20260419T151543Z
LOCATION:Am Hattsteinweiher\, 61250\, Usingen
STATUS:CONFIRMED
URL:https://kulvio.de/event/2493
END:VEVENT
END:VCALENDAR
