BEGIN:VCALENDAR
VERSION:2.0
PRODID:-//Kulvio Event Calendar//kulvio.de//
CALSCALE:GREGORIAN
METHOD:PUBLISH
BEGIN:VEVENT
SUMMARY:Flohmarkt in Eschbach
DTSTART:20260517T050000Z
DTEND:20260517T060000Z
DTSTAMP:20260421T035200Z
UID:kulvio-event-2494@kulvio.de
CATEGORIES:Flohmarkt
CREATED:20260419T151026Z
DESCRIPTION:In der Bachstraße im Usinger Stadtteil Eschbach findet ein Fl
 ohmarkt statt. Händler und Privatanbieter bieten Trödel\, Kleidung und G
 ebrauchtwaren an. Der Markt startet früh morgens um 7 Uhr.
GEO:50.355621;8.535117
LAST-MODIFIED:20260419T151543Z
LOCATION:Bachstraße\, 61250\, Usingen
STATUS:CONFIRMED
URL:https://kulvio.de/event/2494
END:VEVENT
END:VCALENDAR
