BEGIN:VCALENDAR
VERSION:2.0
PRODID:-//Kulvio Event Calendar//kulvio.de//
CALSCALE:GREGORIAN
METHOD:PUBLISH
BEGIN:VEVENT
SUMMARY:Tanz am Marktplatz in Usingen
DTSTART:20260530T160000Z
DTEND:20260530T170000Z
DTSTAMP:20260421T035205Z
UID:kulvio-event-2495@kulvio.de
CATEGORIES:Tanz,Open-Air
CREATED:20260419T151026Z
DESCRIPTION:Der TSC Usingen veranstaltet einen Tanzabend auf dem Alten Mar
 ktplatz. Unter freiem Himmel wird getanzt\, und die Atmosphäre des histor
 ischen Platzes bietet dafür einen besonderen Rahmen. Das Tanzen beginnt u
 m 18 Uhr.
GEO:50.335685;8.533608
LAST-MODIFIED:20260419T151543Z
LOCATION:Alter Marktplatz\, 61250\, Usingen
STATUS:CONFIRMED
URL:https://kulvio.de/event/2495
END:VEVENT
END:VCALENDAR
