BEGIN:VCALENDAR
VERSION:2.0
PRODID:-//Kulvio Event Calendar//kulvio.de//
CALSCALE:GREGORIAN
METHOD:PUBLISH
BEGIN:VEVENT
SUMMARY:Kammerkonzert in der Laurentiuskirche Usingen
DTSTART:20260530T170000Z
DTEND:20260530T180000Z
DTSTAMP:20260421T042458Z
UID:kulvio-event-2496@kulvio.de
CATEGORIES:Konzert
CREATED:20260419T151027Z
DESCRIPTION:Der Kulturkreis Usinger Land lädt zum Kammerkonzert in die Ev
 . Laurentiuskirche ein. Ein international renommiertes Streichquartett spi
 elt Werke von Wolfgang Amadeus Mozart\, György Kurtág und Maurice Ravel.
  Karten kosten 22 Euro im Vorverkauf\, Mitglieder zahlen 20 Euro\, Schüle
 rinnen und Schüler haben freien Eintritt.
GEO:50.333721;8.535954
LAST-MODIFIED:20260419T151452Z
LOCATION:Ev. Laurentiuskirche Usingen\, Pfarrgasse 7\, 61250\, Usingen
STATUS:CONFIRMED
URL:https://kulvio.de/event/2496
END:VEVENT
END:VCALENDAR
