BEGIN:VCALENDAR
VERSION:2.0
PRODID:-//Kulvio Event Calendar//kulvio.de//
CALSCALE:GREGORIAN
METHOD:PUBLISH
BEGIN:VEVENT
SUMMARY:Konzert mit Franz Vitzthum und Markus Flaig
DTSTART:20260426T170000Z
DTEND:20260426T180000Z
DTSTAMP:20260421T042312Z
UID:kulvio-event-2497@kulvio.de
CATEGORIES:Konzert
CREATED:20260419T151054Z
DESCRIPTION:Im Rahmen der 40. Saison der Konzertreihe in der Ev. Kirche We
 hrheim treten der Countertenor Franz Vitzthum und der Bassbariton Markus F
 laig auf. Das Programm spannt einen Bogen von Motetten der Renaissance üb
 er Werke von Byrd\, Schubert\, Brahms und Debussy bis zu zeitgenössischen
  Kompositionen. Das Konzert beginnt um 19 Uhr.
GEO:50.344541;8.594982
LAST-MODIFIED:20260419T151452Z
LOCATION:Ev. Kirche Wehrheim\, Hauptstraße 10\, 61273\, Wehrheim
STATUS:CONFIRMED
URL:https://kulvio.de/event/2497
END:VEVENT
END:VCALENDAR
