BEGIN:VCALENDAR
VERSION:2.0
PRODID:-//Kulvio Event Calendar//kulvio.de//
CALSCALE:GREGORIAN
METHOD:PUBLISH
BEGIN:VEVENT
SUMMARY:21. Apfelblütenfest Wehrheim
DTSTART:20260503T080000Z
DTEND:20260503T090000Z
DTSTAMP:20260421T104958Z
UID:kulvio-event-2498@kulvio.de
CATEGORIES:Stadtfest,Tradition
CREATED:20260419T151054Z
DESCRIPTION:Die Gemeinde Wehrheim feiert das 21. Apfelblütenfest am Ludwi
 g-Bender-Bad. Gleichzeitig wird das 70-jährige Bestehen des Freibads gew
 ürdigt. Die amtierende Apfelblütenkönigin Sophie I. wird verabschiedet 
 und ihre Nachfolgerin in das Amt eingeführt. Das Fest bietet ein buntes R
 ahmenprogramm für alle Altersgruppen und startet um 10 Uhr.
GEO:50.30365;8.575461
LAST-MODIFIED:20260419T151452Z
LOCATION:Ludwig-Bender-Bad\, Rodheimer Straße\, 61273\, Wehrheim
STATUS:CONFIRMED
URL:https://kulvio.de/event/2498
END:VEVENT
END:VCALENDAR
