BEGIN:VCALENDAR
VERSION:2.0
PRODID:-//Kulvio Event Calendar//kulvio.de//
CALSCALE:GREGORIAN
METHOD:PUBLISH
BEGIN:VEVENT
SUMMARY:Irischer Abend in Bad Soden
DTSTART:20260425T160000Z
DTEND:20260425T200000Z
DTSTAMP:20260421T042426Z
UID:kulvio-event-2499@kulvio.de
CATEGORIES:Konzert
CREATED:20260419T151108Z
DESCRIPTION:Die Band Port & Sherry verwandelt die Kulturscheune in Bad Sod
 en in einen irischen Pub. Der Abend bietet authentische irische Musik in g
 eselliger Atmosphäre. Es gibt irische Getränke wie Whiskey\, Guinness un
 d Kilkenny. Der Eintritt ist frei\, für Speisen und Getränke sorgt der B
 all-Sport-Club Altenhain.
GEO:50.141512;8.497038
LAST-MODIFIED:20260419T151452Z
LOCATION:Kulturscheune\, Zum Quellenpark 42\, 65812\, Bad Soden am Taunus
STATUS:CONFIRMED
URL:https://kulvio.de/event/2499
END:VEVENT
END:VCALENDAR
