BEGIN:VCALENDAR
VERSION:2.0
PRODID:-//Kulvio Event Calendar//kulvio.de//
CALSCALE:GREGORIAN
METHOD:PUBLISH
BEGIN:VEVENT
SUMMARY:Bluesabend an der Kulturscheune
DTSTART:20260509T160000Z
DTEND:20260509T200000Z
DTSTAMP:20260421T034511Z
UID:kulvio-event-2500@kulvio.de
CATEGORIES:Konzert
CREATED:20260419T151108Z
DESCRIPTION:Die BS Blues Allstars spielen live an der Kulturscheune in Bad
  Soden am Taunus. Die Band besteht aus den Stammmusikern des BluesHaus Bad
  Soden e.V. und bringt handgemachten Blues auf die Bühne. Der Abend läuf
 t von 18 bis 22 Uhr\, der Eintritt ist frei. Für Speisen und Getränke is
 t gesorgt.
GEO:50.141512;8.497038
LAST-MODIFIED:20260419T151452Z
LOCATION:Kulturscheune\, Zum Quellenpark 42\, 65812\, Bad Soden am Taunus
STATUS:CONFIRMED
URL:https://kulvio.de/event/2500
END:VEVENT
END:VCALENDAR
