BEGIN:VCALENDAR
VERSION:2.0
PRODID:-//Kulvio Event Calendar//kulvio.de//
CALSCALE:GREGORIAN
METHOD:PUBLISH
BEGIN:VEVENT
SUMMARY:29. Bad Sodener Weintage - Eröffnung
DTSTART:20260522T173000Z
DTEND:20260522T215900Z
DTSTAMP:20260421T042312Z
UID:kulvio-event-2501@kulvio.de
CATEGORIES:Tasting,Open-Air
CREATED:20260419T151108Z
DESCRIPTION:Die 29. Bad Sodener Weintage starten mit der feierlichen Eröf
 fnung im Alten Kurpark. Winzer aus Baden\, Franken\, der Pfalz\, dem Rhein
 gau\, Rheinhessen\, Württemberg sowie von Mosel\, Saar und Nahe präsenti
 eren ihre Weine. Dazu gibt es regionale Speisen wie Flammkuchen\, Spundek
 äs und Bratwurst. Abends sorgen Bands verschiedener Stilrichtungen in der
  Konzertmuschel für Stimmung.
GEO:50.145475;8.50219
LAST-MODIFIED:20260419T151543Z
LOCATION:Alter Kurpark\, Königsteiner Straße 86\, 65812\, Bad Soden am T
 aunus
STATUS:CONFIRMED
URL:https://kulvio.de/event/2501
END:VEVENT
END:VCALENDAR
