BEGIN:VCALENDAR
VERSION:2.0
PRODID:-//Kulvio Event Calendar//kulvio.de//
CALSCALE:GREGORIAN
METHOD:PUBLISH
BEGIN:VEVENT
SUMMARY:29. Bad Sodener Weintage
DTSTART:20260523T130000Z
DTEND:20260523T215900Z
DTSTAMP:20260421T042820Z
UID:kulvio-event-2502@kulvio.de
CATEGORIES:Tasting,Open-Air
CREATED:20260419T151108Z
DESCRIPTION:Die 29. Bad Sodener Weintage laden in den Alten Kurpark ein. W
 inzer aus den besten Anbaugebieten Deutschlands schenken ihre Weine im gem
 ütlichen Weindorf aus. Dazu gibt es regionale Spezialitäten und Live-Mus
 ik aus der Konzertmuschel. Der Samstag startet um 15 Uhr und bietet ein Pr
 ogramm bis Mitternacht.
GEO:50.145475;8.50219
LAST-MODIFIED:20260419T151543Z
LOCATION:Alter Kurpark\, Königsteiner Straße 86\, 65812\, Bad Soden am T
 aunus
STATUS:CONFIRMED
URL:https://kulvio.de/event/2502
END:VEVENT
END:VCALENDAR
