BEGIN:VCALENDAR
VERSION:2.0
PRODID:-//Kulvio Event Calendar//kulvio.de//
CALSCALE:GREGORIAN
METHOD:PUBLISH
BEGIN:VEVENT
SUMMARY:29. Bad Sodener Weintage
DTSTART:20260524T130000Z
DTEND:20260524T215900Z
DTSTAMP:20260421T043152Z
UID:kulvio-event-2503@kulvio.de
CATEGORIES:Tasting,Open-Air
CREATED:20260419T151108Z
DESCRIPTION:Die 29. Bad Sodener Weintage laden in den Alten Kurpark ein. W
 inzer aus den besten Anbaugebieten Deutschlands schenken ihre Weine im gem
 ütlichen Weindorf aus. Dazu gibt es regionale Spezialitäten und Live-Mus
 ik aus der Konzertmuschel. Am Pfingstsonntag öffnet das Weindorf um 15 Uh
 r.
GEO:50.145475;8.50219
LAST-MODIFIED:20260419T151543Z
LOCATION:Alter Kurpark\, Königsteiner Straße 86\, 65812\, Bad Soden am T
 aunus
STATUS:CONFIRMED
URL:https://kulvio.de/event/2503
END:VEVENT
END:VCALENDAR
